BEGIN:VCALENDAR
VERSION:2.0
PRODID:-//American Security Project - ECPv6.15.20//NONSGML v1.0//EN
CALSCALE:GREGORIAN
METHOD:PUBLISH
X-WR-CALNAME:American Security Project
X-ORIGINAL-URL:https://www.americansecurityproject.org
X-WR-CALDESC:Events for American Security Project
REFRESH-INTERVAL;VALUE=DURATION:PT1H
X-Robots-Tag:noindex
X-PUBLISHED-TTL:PT1H
BEGIN:VTIMEZONE
TZID:America/New_York
BEGIN:DAYLIGHT
TZOFFSETFROM:-0500
TZOFFSETTO:-0400
TZNAME:EDT
DTSTART:20150308T070000
END:DAYLIGHT
BEGIN:STANDARD
TZOFFSETFROM:-0400
TZOFFSETTO:-0500
TZNAME:EST
DTSTART:20151101T060000
END:STANDARD
BEGIN:DAYLIGHT
TZOFFSETFROM:-0500
TZOFFSETTO:-0400
TZNAME:EDT
DTSTART:20160313T070000
END:DAYLIGHT
BEGIN:STANDARD
TZOFFSETFROM:-0400
TZOFFSETTO:-0500
TZNAME:EST
DTSTART:20161106T060000
END:STANDARD
BEGIN:DAYLIGHT
TZOFFSETFROM:-0500
TZOFFSETTO:-0400
TZNAME:EDT
DTSTART:20170312T070000
END:DAYLIGHT
BEGIN:STANDARD
TZOFFSETFROM:-0400
TZOFFSETTO:-0500
TZNAME:EST
DTSTART:20171105T060000
END:STANDARD
BEGIN:DAYLIGHT
TZOFFSETFROM:-0500
TZOFFSETTO:-0400
TZNAME:EDT
DTSTART:20180311T070000
END:DAYLIGHT
BEGIN:STANDARD
TZOFFSETFROM:-0400
TZOFFSETTO:-0500
TZNAME:EST
DTSTART:20181104T060000
END:STANDARD
BEGIN:DAYLIGHT
TZOFFSETFROM:-0500
TZOFFSETTO:-0400
TZNAME:EDT
DTSTART:20190310T070000
END:DAYLIGHT
BEGIN:STANDARD
TZOFFSETFROM:-0400
TZOFFSETTO:-0500
TZNAME:EST
DTSTART:20191103T060000
END:STANDARD
BEGIN:DAYLIGHT
TZOFFSETFROM:-0500
TZOFFSETTO:-0400
TZNAME:EDT
DTSTART:20200308T070000
END:DAYLIGHT
BEGIN:STANDARD
TZOFFSETFROM:-0400
TZOFFSETTO:-0500
TZNAME:EST
DTSTART:20201101T060000
END:STANDARD
END:VTIMEZONE
BEGIN:VEVENT
DTSTART;TZID=America/New_York:20190829T120000
DTEND;TZID=America/New_York:20190829T140000
DTSTAMP:20260419T094230
CREATED:20190719T151739Z
LAST-MODIFIED:20190927T130717Z
UID:66437-1567080000-1567087200@www.americansecurityproject.org
SUMMARY:The Cuba-U.S. Bilateral Relationship: New Pathways and Policy Choices
DESCRIPTION:You can see the summary and vide of this event at in our Event Recap. \nJoin the American Security Project on Thursday\, August 29 at noon for a panel discussion on the newly released book The Cuba-U.S. Bilateral Relationship: New Pathways and Policy Choices\, recently published by the Oxford University Press. \nThe book examines the evolving political\, economic and legal relationship between the two countries in light of the rapprochement that began during the later years of the Obama presidency.  By examining the relationship from three perspectives\, the book provides insight into the key areas that policymakers and politicians will need to address as the relationship continues to evolve.  Among the topics to be covered are property rights\, the legacy of Helms-Burton for current and future relations\, and political change (or not) in Cuba. \nAmbassador Jeffrey DeLaurentis will introduce and provide opening remarks to our panel of editors and contributors: Michael J. Kelly\, JD (Creighton University School of Law)\, Erika Moreno\, PhD (Creighton University\, Department of Political Science and International Relations)\, Richard Witmer\, PhD (Creighton University\, Department of Political Science and International Relations)\, and contributing author Jonathan Benjamin-Alvarado\, PhD (University of Nebraska\, Omaha\, Department of Political Science). \nThe American Security Project’s Cuba Engagement program has sought to rebuild a closer relationship between the governments of the United States and Cuba and build a long-lasting relationship between the people of the United States and the people of Cuba. In March 2017\, ASP brought a delegation of retired senior military leaders to Havana for a a four day fact-finding trip to Havana. ASP has advocated for reduced tensions and increased engagement across the Florida Straits. \nThe panel discussion will be moderated by Andrew Holland\, COO of the American Security Project. Please arrive at noon for registration and lunch. The discussion will begin promptly at 12:30pm. It will be held at the offices of The American Security Project\, 1201 Pennsylvania Avenue\, NW\, Washington\, DC on August 29th\, 2019. \nSpeakers\nAmbassador Jeffrey DeLaurentis has had a distinguished 28-year career in the Foreign Service\, serving most recently as Chargé d’Affaires at the U.S. Embassy in Havana from 2015-2017. Before his posting in Cuba\, he was Ambassador for Special Political Affairs at the U.S. Mission to the United Nations. His previous positions include Assistant Secretary of State for the Bureau of Western Hemisphere Affairs and Minister Counselor for Political Affairs and Security Council Coordinator at the U.S. Mission to the United Nations. He is currently a Distinguished Resident Fellow at Georgetown University’s School of Foreign Service. \nMichael J. Kelly\, JD: Professor Kelly coordinates the International and Comparative Law Program and the GOAL Master’s Program at Creighton University School of Law. Professor Kelly has been on the front lines of Cuba policy as an expert on the international law of expropriations. Professor Kelly wrote the grant that USAID awarded to the School of Law calling for creation of a model Cuba/U.S. bilateral property claims settlement tribunal which can be used to settle the claims of companies and citizens whose property was confiscated by the Castro regime when it came to power in 1959. Professor Kelly and the team of six law and political science faculty tasked with building this model reported out their recommendations as a book on The Resolution of Outstanding Property Claims Between Cuba & the United States (Creighton University Press 2007). He testified in Congress in 2010 on this issue as it relates to lifting the embargo on Cuba. \nErika Moreno\, PhD: Dr. Moreno is the Chair\, Department of Political Science and International Relations at the Creighton University College of Arts and Sciences. She is trained as a comparative political scientist\, with a specialization in Latin American politics.  Her scholarly interests focus on democratic institutions and interbranch relations and their implications for democratic accountability and representation. Although her primary focus is democracy and its institutions\, she has also worked on topics that have addressed stability of regimes (democracy and autocracy)\, political transitions\, and the role of regime characteristics on economic outcomes. \n\nRichard Witmer\, PhD: Dr. Witmer has teaching and research interest in American politics and American Indian politics and policy\, which he often combines in his work.  Within American politics\, he specializes in Congress\, interest groups\, voting and elections\, and US-Cuban relations.  His interest in American Indian politics and policy includes the mobilization of Indian nations and voters\, political incorporation\, compacting policy\, and tribal/federal and tribal/state relations. \nJonathan C. Benjamin-Alvarado\, PhD: Dr. Benjamin-Alvarado is the Assistant Vice Chancellor for Student Affairs at the University of Nebraska\, Omaha. He is the author of Power to the People:  Energy and the Cuban Nuclear Program published by Routledge Press and the editor of Cuba’s Energy Future: Strategic Approaches to Cooperation published by the Brookings Institution Press.
URL:https://www.americansecurityproject.org/event/the-cuba-u-s-bilateral-relationship-new-pathways-and-policy-choices/
LOCATION:American Security Project\, 1201 Pennsylvania Ave NW\, Washington\, DC\, 20004\, United States
CATEGORIES:Cuba Engagement
ATTACH;FMTTYPE=image/jpeg:https://www.americansecurityproject.org/wp-content/uploads/2017/06/370935343_0413c762ea_o-e1567181404125.jpg
END:VEVENT
BEGIN:VEVENT
DTSTART;TZID=America/New_York:20170425T103000
DTEND;TZID=America/New_York:20170425T113000
DTSTAMP:20260419T094230
CREATED:20170404T145628Z
LAST-MODIFIED:20170414T150808Z
UID:46151-1493116200-1493119800@www.americansecurityproject.org
SUMMARY:Hill Briefing: The National Security Argument for US-Cuba Engagement
DESCRIPTION:On March 14\, an American Security Project-led delegation departed on a four day fact-finding trip to Havana\, Cuba. The delegation included retired flag officers from across the services and was recognized by the Cuban government as a historic continuation of US-Cuba relations. \nThe itinerary included meetings with senior officials from across the Cuban government; the Ministry of Foreign Affairs\, the Ministry of Trade and Investment\, the Ministry of Agriculture\, and the Ministry of Energy. Conversations were wide ranging across areas of mutual interest to both Cuba and the United States. Of particular focus were several discrete areas already included in the ASP ‘Pathways’ Program: \n\nCooperating on environmental protection\nBuilding a strong and resilient energy system\nPartnership in confronting regional challenges in the Caribbean like drug trafficking and organized crime\nSupporting US foreign direct investment into Cuba\nMilitary to military engagement and future security cooperation\n\n  \nJoin members of the delegation on Tuesday\, April 25th for an on-the-record briefing on the trip and discussion on how continued engagement with Cuba furthers US national security interests. \n  \nRequest an Invitation at events@americansecurityproject.org \n  \nThis event is primarily appropriate for Members of Congress\, senior staff\, and select media.\nTo schedule a private briefing with members of the delegation or learn more about ASP’s Cuba work:\nmfp@americansecurityproject.org \n  \nThis event is made possible by the generous support of Nelson Mullins Riley & Scarborough LLP
URL:https://www.americansecurityproject.org/event/cubahillbrief/
LOCATION:Dirksen Senate Building\, Dirksen Senate Building\, Washington\, United States
CATEGORIES:Cuba Engagement
ATTACH;FMTTYPE=image/jpeg:https://www.americansecurityproject.org/wp-content/uploads/2016/03/Cuban-Flag.jpg
END:VEVENT
BEGIN:VEVENT
DTSTART;TZID=America/New_York:20170124T120000
DTEND;TZID=America/New_York:20170124T130000
DTSTAMP:20260419T094230
CREATED:20170111T203056Z
LAST-MODIFIED:20170111T203056Z
UID:44474-1485259200-1485262800@www.americansecurityproject.org
SUMMARY:Key Issues and Emerging Threats: An Off-the-Record Conversation on the Hill
DESCRIPTION:American Security Project\, founded eleven years ago as a nonpartisan national security research and education organization devoted to forging consensus on America’s long-term national security. Our bipartisan board of Republicans\, Democrats\, retired military flag officers\, and business leaders places us in a unique position to talk to both sides of the political aisle. The ASP network includes more than 200 fellows including senior national security leaders\, policy makers\, academic experts\, and private sector stakeholders with unique expertise on a broad range security issues. Widely respected for our fact-based analysis in the face of an ever-changing world landscape\, ASP provides meaningful\, thorough\, and non-partisan insight into the immediate and long-term impacts of world events. \n  \nJoin members of American Security Project’s Board of Directors on Tuesday\, January 24th for an off-the-record lunch briefing on key security issues and emerging threats for Members of Congress and select staff. Topics will include the US-Russia relationship\, trade policy\, national security strategy\, and US-China relations. \nRequest an Invitation  \nevents@americansecurityproject.org
URL:https://www.americansecurityproject.org/event/hillbrief24jan/
LOCATION:Rayburn House Building
CATEGORIES:American Competitiveness & Economic Diplomacy,Climate Security,Cuba Engagement,Energy Security,Featured Event,National Security Strategy
ATTACH;FMTTYPE=image/png:https://www.americansecurityproject.org/wp-content/uploads/2015/12/ASP-Logo-Social-Share.png
END:VEVENT
BEGIN:VEVENT
DTSTART;TZID=America/New_York:20160526T120000
DTEND;TZID=America/New_York:20160526T133000
DTSTAMP:20260419T094230
CREATED:20160505T183325Z
LAST-MODIFIED:20160822T185606Z
UID:40938-1464264000-1464269400@www.americansecurityproject.org
SUMMARY:The Role of Military-to-Military Engagement in Building the U.S. – Cuba Relationship
DESCRIPTION:  \n\n\n\nDate\nMay 26th\, 2016\n\n\nTime\n12:00pm – 1:30pm\n\n\nLocation\nAmerican Security Project – 1100 New York Ave.\, 7th Floor\, West Tower\, Washington DC 20005\n\n\n\n  \nOn April 20th\, American Security Project formally launched its Cuba Program in Miami\, Florida. “Pathways to the Future of US-Cuba Relations” examines how to build confidence between Cuba and the United States\, and the benefits of closer relationships between the two governments and peoples through the lens of national security. \n  \nMilitary-to-Military Engagement (mil-to-mil or M2M) Programs are essential to strong inter-country relationships. Individual engagements\, traveling contact teams\, military liaison teams\, military and government exchange programs\, and seminars and conferences among various nation’s militaries develop partnerships between governments\, militaries\, and individuals. \nThese exchanges build relationships and establish communication and cooperation before an emergency\, and provide opportunities to discuss possible conflicts in advance. Long-standing M2M programs continue to play an important role in the U.S. foreign policy\, evidenced by their proliferation across the commands. The budding U.S. – Cuba relationship can be no different. \nJoin American Security Project on Thursday\, May 26th for “The Role of Military-to-Military Engagement in Building the U.S. – Cuba Relationship\,” a roundtable discussion on the first in a series of Cuba-focused Perspective Papers. The conversation\, and inaugural paper\, will examine the existing U.S.-Cuba mil-to-mil relationship and a strategy for successful engagement over the next decade. \nLunch refreshments will be served from 12:00pm – 12:30pm. \nPlease arrive by 12:00pm for registration. \nDue to limited space\, guests will need to request an RSVP\n \nSpeakers:\n\nBGen. Stephen A. Cheney\, USMC (Ret.) – CEO\, American Security Project\nCol. Ken Robbins\, USA (Ret.) – Senior Adjunct Fellow\, American Security Project\nCDR Louis Orsini\, USCG (Ret.) – Maritime Security Enforcement Specialist\, United States Coast Guard\n\nAdditional Resources:\n\nMiami at the Center of the Cuban- American Relationship\nCuba Preview: Obama Visit and Embargo Easing\nNew Cuba Crisis Means It’s Time to Kick Out Old Policies\nPODCAST: David Ferris talks to ASP about Cuban Energy\nAndrew Holland on Cuban Energy\nPerspective: Potential Areas of Cooperation Between the U.S. and Cuba\nASP Supports Cuba’s Removal from State Sponsors of Terrorism List\nBringing Cuba Into the Digital Age\nU.S. – Cuban Relations on the Edge of Formalization\nASP in Inter American Dialogue: Geopolitics and economics are bringing U.S. foreign policy back to the Caribbean\nEnergy Security in the Caribbean\n\n  \nSpeaker Bios: \nhttps://www.americansecurityproject.org/wp-content/uploads/2011/09/Steve-Cheney-CROPPED.jpg \nBGen. Stephen A. Cheney\, USMC (Ret.)  \nis the Chief Executive Officer of the American Security Project (ASP) and a member of the Department of State’s Foreign Affairs Policy Board. \nHe is a graduate of the U.S. Naval Academy and has over 30 years experience as a Marine.  His career included a wide variety of command and staff positions with the operating forces and the supporting establishment.  Gen. Cheney’s primary specialty was artillery\, but he focused extensively on entry-level training\, commanding at every echelon at both Marine Corps Recruit Depots\, to include being the Commanding General at Parris Island.  He served several years in Japan and has traveled extensively throughout the Middle East and Asia. \nOther selected highlights of Gen. Cheney’s military career include tours as Deputy Executive Secretary to Defense Secretaries Cheney and Aspin; ground plans officer for Drug Enforcement Policy in the Pentagon; liaison to the Congressional Commission on Roles and Missions of the Armed Forces; and Inspector General of the Marine Corps. \nFollowing retirement from the Marines\, Gen. Cheney became the Chief Operating Officer for Business Executives for National Security (BENS)\, in Washington\, D.C.\, and most recently was President/CEO of the Marine Military Academy in Harlingen\, Texas. \nGen. Cheney is a graduate of the Marine Corps Command and Staff College\, the National War College\, and the University of Southern California. He was a military fellow at the Council on Foreign Relations in New York City\, where he is a member. Additionally\, he is also a member of the Secretary of State’s International Security Advisory Board. \nGen. Cheney has been on the Board of Directors for ASP since 2006. \nCol. Ken Robbins\, USA (Ret.) \nKendric H. Robbins is a retired Army officer with more than twenty years of experience serving in tactical\, operational and strategic level assignments.  Most recently\, he served as a Special Assistant to the Chief of Staff of the United States Army. Prior to that assignment\, he commanded a Stryker infantry battalion forward stationed in Germany.  He has also served as the operations officer and later executive officer an infantry battalion while deployed to Salman Pak\, Iraq.  Ken commanded a cavalry troop as part of the NATO Stabilization Force (SFOR) in Bosnia.  As a platoon leader\, he and his Soldiers operated a remote observation post on the Macedonian and Serbian border conducting UN peacekeeping operations (UNPREDEP).  He also served as an assistant professor and executive officer in the Department of Social Sciences at West Point\, were he taught courses on American politics. \nIn 2009\, Ken was appointed as one of fifteen White House Fellows by President Obama.  He served as a Special Assistant to the Director of the Office of Personnel Management.  Ken worked closely with career civil servants and politcal appointees at OPM in the drafting of Executive Order 13518\, Employment of Veterans in the Federal Government\, which established the Veterans Employment Initiative. After his White House Fellowship\, Ken served as an Army Fellow at the Department of State. \nKen is the co-founder and CEO of Agent Hero Inc.\, which aims to connect home buyers and sellers with carefully selected professional real estate agents who are military veterans or spouses. \nHis educational background includes a B.S. in American Politics from the United States Military Academy and a Master in Public Administration from the Harvard Kennedy School where he was recognized for academic and leadership excellence.  His military awards include the Legion of Merit\, NATO medal\, and UN Medal. \nCDR Louis Orsini\, USCG (Ret.) \nLou Orsini is the Senior Maritime Law Enforcement Advisor for the Chief\, Office of Law Enforcement in U.S. Coast Guard Headquarters in Washington\, DC.  He provides expert advice on a variety of law enforcement strategies\, policies\, tactics\, techniques and procedures\, and is primarily responsible for all international aspects of USCG maritime law enforcement with a particular emphasis on western hemispheric initiatives.  His primary duty is to weave international considerations and requirements from all constituents into USCG law enforcement strategy and policy to ensure effective program management.  Mr. Orsini is a 1973 graduate of the U.S. Coast Guard Academy.  He received his Masters degree in National Security and Strategic Studies from the Naval War College and his Masters in Management from Salve Regina in 1990.  He commanded two cutters\, and served in four others during a 26-year active duty Coast Guard career.  Between seagoing assignments\, Mr. Orsini served in a wide variety of positions including Chief of Naval Operations Liaison Officer in the Pentagon\, and as the Maritime Security Assistance Officer and Deputy in the Military Liaison Office in Barbados.  He also served as Deputy Group Commander of USCG Group Fort Macon\, and as Chief\, Fisheries Enforcement Division for USCG Atlantic Area.   Mr. Orsini retired from active duty in 2000 as a Commander\, and has served in his current position since then. \nABOUT THE AMERICAN SECURITY PROJECT  \nThe American Security Project is a non-profit\, non-partisan public policy and research organization dedicated to fostering knowledge and understanding of a range of national security issues\, promoting debate about the appropriate use of American power\, and cultivating strategic responses to 21st century challenges. For more information\, visitwww.americansecurityproject.org.
URL:https://www.americansecurityproject.org/event/uscubam2m/
LOCATION:DC
CATEGORIES:Cuba Engagement,Featured Event,National Security Strategy,Public Diplomacy
ATTACH;FMTTYPE=image/jpeg:https://www.americansecurityproject.org/wp-content/uploads/2016/03/Cuban-Flag.jpg
END:VEVENT
END:VCALENDAR